BEGIN:VCALENDAR
VERSION:2.0
PRODID:-//Papyrus Software//Open House USA 2026//EN
CALSCALE:GREGORIAN
METHOD:PUBLISH
BEGIN:VEVENT
DTSTART:20260517T180000
DTEND:20260519T170000
DTSTAMP:20250206T000000Z
UID:open-house-usa-2026@isis-papyrus.com
SUMMARY:Papyrus Open House USA 2026
DESCRIPTION:Join us at Papyrus Open House USA 2026 - Strategy and User Conference. Experience the future of Business Process Management and Customer Communication Management.\n\nMore info: https://www.isis-papyrus.com/e15/pages/events/2026/eng/open-house-usa.html
LOCATION:ISIS Papyrus America Inc., 301 Bank St., Southlake, TX 76092, U.S.A.
URL:https://www.isis-papyrus.com/e15/pages/events/2026/eng/open-house-usa.html
STATUS:CONFIRMED
ORGANIZER;CN=Papyrus Software:mailto:events@isis-papyrus.com
END:VEVENT
END:VCALENDAR